Workbook
Name \0: #REF!
Name \0: #REF!
Name \a: #REF!
Name \b: #REF!
Name \b: #REF!
Name \c: #N/A
Name \C: #REF!
Name \d: #N/A
Name \d: #REF!
Name \e: #N/A
Name \f: #N/A
Name \f: #REF!
Name \g: #N/A
Name \h: #N/A
Name \H: #REF!
Name \i: #N/A
Name \i: #REF!
Name \j: #N/A
Name \j: #REF!
Name \k: #N/A
Name \k: #REF!
Name \l: #N/A
Name \LARGE: #REF!
Name \LARGE: #REF!
Name \m: #N/A
Name \M: #REF!
Name \MIDDLE: #REF!
Name \MIDDLE: #REF!
Name \o: #N/A
Name \p: #REF!
Name \p: #REF!
Name \q: #N/A
Name \r: #REF!
Name \s: #N/A
Name \s: #REF!
Name \SMALL: #REF!
Name \SMALL: #REF!
Name \t: #N/A
Name \t: #REF!
Name \u: #REF!
Name \u: #REF!
Name \v: #REF!
Name \v: #REF!
Name \w: #REF!
Name \w: #REF!
Name \x: #REF!
Name \x: #REF!
Name \y: #REF!
Name \y: #REF!
Name \z: #N/A
Name \z: #REF!
Name _: NA()
Name _______________________tr1800: #REF!
Name _______________________tr6001: #REF!
Name _______________________tr900: #REF!
Name ______________________IV65537: #REF!
Name _____________________IV65537: #REF!
Name ____________________IV65537: #REF!
Name ___________________IV65537: #REF!
Name __________________Mzd1: #REF!

Sheet Annexure I(Descope) (Sch-H)
A1: Schedule-H
A2: (See Clauses 10.1.4 and 19.3)
A3: Name of the Project :- | C3: Improvement works of Palanpur /Khemana to Aburoad to Swaroopganj Section (from km 601.000 to km 677.000) of NH 27 in the State of Gujarat and Rajasthan on EPC mode
A4: Name of Employer | C4: National Highways Infra Project Private Limited
A5: Authority's Engineer | C5: M/s L.N Malviya Infra Projects Pvt. Ltd.
A6: Name of EPC Contractor | C6: M/s Bhimji Velji Sorathia Construction Private Limited
A7: Contract Price Weightages
A8: Project Cost:- | B8: 380895200 | E8: Previous Schedule-H | I8: Modified Schedule-H | M8: Cumulative Bill | O8: Upto Previous Bill | Q8: This Bill | S8: Remarks | T8: Balance works as per Sch-H | V8: Balance Work as Per Site
A9: Item | B9: Weightage in % of CP | C9: Stage for Payment | D9: Percentage weightage | E9: UOM | F9: Scope of work | G9: Rate | H9: Total Amount | I9: UOM | J9: Scope of work | K9: Rate | L9: Total Amount | M9: Quantity | N9: Amount | O9: Quantity | P9: Amount | Q9: Quantity | R9: Amount | T9: Quantity | U9: Amount | V9: Quantity | W9: Amount
C10: 1.Road Works including Culverts, widening and repair of culverts | D10: =B8*B11 -> 96099859
A11: Road Works including Culverts, widening and repair of culverts | B11: 0.2523 | C11: C.1- Reconstruction/ New Service Road/ Slip Road (Flexible Pavement)
C12: (1) Earthwork up to top of the sub-grade | D12: 0.1599 | E12: km | F12: 6.018 | G12: =ROUND(H12/F12,2) -> 2553401 | H12: =D12*$D$10 -> 15366367 | I12: km | J12: 6.018 | K12: =L12/J12 -> 2553401 | L12: =D12*$D$10 -> 15366367 | M12: =O12+Q12 -> 6.018 | N12: =P12+R12 -> 15366367 | O12: 6.018 | P12: =O12*K12 -> 15366367 | Q12: ='[1]Sub Grade'!E25 -> 0 | R12: =Q12*K12 -> 0 | S12: No Change | T12: =J12-M12 -> 0 | U12: =T12*K12 -> 0
C13: (2) Earthwork in Shoulders | D13: 0.001 | E13: km | F13: 6.018 | G13: =ROUND(H13/F13,2) -> 15968.74 | H13: =D13*$D$10 -> 96099.859 | I13: km | J13: 6.018 | K13: =L13/J13 -> 15968.737 | L13: =D13*$D$10 -> 96099.859 | M13: =O13+Q13 -> 6.018 | N13: =P13+R13 -> 96099.859 | O13: 6.018 | P13: =O13*K13 -> 96099.859 | Q13: ='[1]EW Shoulder'!E21 -> 0 | R13: =Q13*K13 -> 0 | S13: No Change | T13: =J13-M13 -> 0 | U13: =T13*K13 -> 0
C14: (3) Sub-base Course | D14: 0.0885 | E14: km | F14: 6.018 | G14: =ROUND(H14/F14,2) -> 1413233.2 | H14: =D14*$D$10 -> 8504837.5 | I14: km | J14: 6.018 | K14: =L14/J14 -> 1413233.2 | L14: =D14*$D$10 -> 8504837.5 | M14: =O14+Q14 -> 6.018 | N14: =P14+R14 -> 8504837.5 | O14: 6.018 | P14: =O14*K14 -> 8504837.5 | Q14: =[1]GSB!E25 -> 0 | R14: =Q14*K14 -> 0 | S14: No Change | T14: =J14-M14 -> 0 | U14: =T14*K14 -> 0
C15: (4) Non-bituminous Base course | D15: 0.2222 | E15: km | F15: 6.018 | G15: =ROUND(H15/F15,2) -> 3548253.4 | H15: =D15*$D$10 -> 21353389 | I15: km | J15: 6.018 | K15: =L15/J15 -> 3548253.4 | L15: =D15*$D$10 -> 21353389 | M15: =O15+Q15 -> 6.018 | N15: =P15+R15 -> 21353389 | O15: 6.018 | P15: =O15*K15 -> 21353389 | Q15: =[1]WMM!E32 -> 0 | R15: =Q15*K15 -> 0 | S15: No Change | T15: =J15-M15 -> 0 | U15: =T15*K15 -> 0
C16: (5) Bituminous Base course | D16: 0.2638 | E16: km | F16: 6.018 | G16: =ROUND(H16/F16,2) -> 4212552.8 | H16: =D16*$D$10 -> 25351143 | I16: km | J16: 6.018 | K16: =L16/J16 -> 4212552.8 | L16: =D16*$D$10 -> 25351143 | M16: =O16+Q16 -> 5.8775 | N16: =P16+R16 -> 24759279 | O16: 5.8775 | P16: =O16*K16 -> 24759279 | Q16: 0 | R16: =Q16*K16 -> 0 | S16: No Change | T16: =J16-M16 -> 0.1405 | U16: =T16*K16 -> 591863.67 | V16: =SUM('SR Flexible Pavement'!E6:E14)/2000 -> 0.256 | W16: =V16*K16 -> 1078413.5 | X16: =V16-T16 -> 0.1155
C17: (6) Wearing Coat | D17: 0.1807 | E17: km | F17: 6.018 | G17: =ROUND(H17/F17,2) -> 2885550.8 | H17: =D17*$D$10 -> 17365245 | I17: km | J17: 6.018 | K17: =L17/J17 -> 2885550.8 | L17: =D17*$D$10 -> 17365245 | M17: =O17+Q17 -> 5.4925 | N17: =P17+R17 -> 15848888 | O17: 5.4925 | P17: =O17*K17 -> 15848888 | Q17: 0 | R17: =Q17*K17 -> 0 | S17: No Change | T17: =J17-M17 -> 0.5255 | U17: =T17*K17 -> 1516356.9 | V17: =SUM('SR Flexible Pavement'!E19:E27)/2000 -> 0.5835 | W17: =V17*K17 -> 1683718.9 | X17: =V17-T17 -> 0.058
C18: D- Reconstruction & New Culverts on existing road, realignments, bypasses | T18: =J18-M18 -> 0 | U18: =T18*K18 -> 0
C19: Box Culverts | D19: 0.0839 | E19: Nos. | F19: 5 | G19: =ROUND(H19/F19,2) -> 1612555.6 | H19: =D19*$D$10 -> 8062778.2 | I19: Nos. | S19: Previous schedule-H considered 5 nos. of Box Culverts as per mention in Schedule-B Chainages however the nos. of Box Culverts may reduced due to change in location of service road. Hence, we considering single side of each Box Culvert i.e. 7 Nos. as per schedule-B at present single side 5 nos. | T19: =J19-M19 -> 0 | U19: =T19*K19 -> 0
C20: Super-Structure: On completion of the super-structure (Box Culverts) | J20: 5 | K20: =L20/J20 -> 977456.41 | L20: =(H19-2571450)*89% -> 4887282.1 | M20: =O20+Q20 -> 5 | N20: =P20+R20 -> 4887282.1 | O20: 5 | P20: =O20*K20 -> 4887282.1 | Q20: ='[1]Box Culvert'!D56 -> 0 | R20: =Q20*K20 -> 0 | S20: 0.89 | T20: =J20-M20 -> 0 | U20: =T20*K20 -> 0
C21: Protection Work : On completion of the Protection Work (Box Culverts) | J21: 5 | K21: =L21/J21 -> 120809.22 | L21: =(H19-2571450)*11% -> 604046.1 | M21: =O21+Q21 -> 4 | N21: =P21+R21 -> 483236.88 | O21: 4 | P21: =O21*K21 -> 483236.88 | Q21: 0 | R21: =Q21*K21 -> 0 | S21: 0.11 | T21: =J21-M21 -> 1 | U21: =T21*K21 -> 120809.22 | V21: ='BOX culvert, painting '!K5 -> 1 | W21: =V21*K21 -> 120809.22
D22: =SUM(D11:D19) -> 1 | T22: =J22-M22 -> 0 | U22: =T22*K22 -> 0
C23: Sub Total (1) | H23: =SUM(H12:H22) -> 96099859 | L23: =SUM(L12:L22) -> 93528409 | N23: =SUM(N12:N21) -> 91299379 | O23: =SUM(O12:O21) -> 44.442 | P23: =SUM(P12:P21) -> 91299379 | Q23: =SUM(Q12:Q21) -> 0 | R23: =SUM(R12:R21) -> 0 | S23: =SUM(S12:S21) -> 1 | U23: =SUM(U12:U21) -> 2229029.8 | W23: =SUM(W12:W21) -> 2882941.6
C24: 2. Minor bridge/Underpasses/ Overpasses | D24: =B8*B25 -> 7617904 | T24: =J24-M24 -> 0 | U24: =T24*K24 -> 0
A25: Minor bridge/Underpasses/ Overpasses | B25: 2.0% | C25: A.2- New Minor bridges (length >6 m and < 60 m) | T25: =J25-M25 -> 0 | U25: =T25*K25 -> 0
C26: (1) Foundation: On completion of the foundation work including foundations for wing and return walls, abutments, piers. | D26: 0.35 | E26: Mtr. | F26: =2*(2*4.4) -> 17.6 | G26: =ROUND(H26/F26,2) -> 151492.41 | H26: =$D$24*D26 -> 2666266.4 | I26: Mtr. | J26: 2 | K26: =L26/J26 -> 1333133.2 | L26: =D26*$D$24 -> 2666266.4 | M26: =O26+Q26 -> 2 | N26: =P26+R26 -> 2666266.4 | O26: 2 | P26: =O26*K26 -> 2666266.4 | Q26: 0 | R26: =Q26*K26 -> 0 | S26: Scope considering as per Schedule-B in Nos. (LHS-1 & RHS-1 =2 Nos.) | T26: =J26-M26 -> 0 | U26: =T26*K26 -> 0
C27: (2) Sub-structure: On completion of abutments, piers up to the abutment/ pier cap including wing/ return wall up to top | D27: 0.345 | E27: Mtr. | F27: =2*(2*4.4) -> 17.6 | G27: =ROUND(H27/F27,2) -> 149328.23 | H27: =$D$24*D27 -> 2628176.9 | I27: Mtr. | J27: 2 | K27: =L27/J27 -> 1314088.4 | L27: =D27*$D$24 -> 2628176.9 | M27: =O27+Q27 -> 2 | N27: =P27+R27 -> 2628176.9 | O27: 2 | P27: =O27*K27 -> 2628176.9 | Q27: 0 | R27: =Q27*K27 -> 0 | T27: =J27-M27 -> 0 | U27: =T27*K27 -> 0
C28: (3) Super-structure: On completion of the super-structure in all respects including Girder, Deck slab, bearings. | D28: 0.25 | E28: Mtr. | F28: =2*(2*4.4) -> 17.6 | G28: =ROUND(H28/F28,2) -> 108208.86 | H28: =$D$24*D28 -> 1904476 | I28: Mtr. | J28: 2 | K28: =L28/J28 -> 952238 | L28: =D28*$D$24 -> 1904476 | M28: =O28+Q28 -> 2 | N28: =P28+R28 -> 1904476 | O28: 2 | P28: =O28*K28 -> 1904476 | Q28: 0 | R28: =Q28*K28 -> 0 | T28: =J28-M28 -> 0 | U28: =T28*K28 -> 0
C29: (4) Approaches: On completion of approaches including Retaining walls, stone pitching, protection works complete in all respect, tests on completion in all respect and fit for use. | D29: 0.05 | E29: Mtr. | F29: =2*(2*4.4) -> 17.6 | G29: =ROUND(H29/F29,2) -> 21641.77 | H29: =$D$24*D29 -> 380895.2 | I29: Mtr. | J29: 2 | K29: =L29/J29 -> 190447.6 | L29: =D29*$D$24 -> 380895.2 | M29: =O29+Q29 -> 2 | N29: =P29+R29 -> 380895.2 | O29: 2 | P29: =O29*K29 -> 380895.2 | Q29: 0 | R29: =Q29*K29 -> 0 | T29: =J29-M29 -> 0 | U29: =T29*K29 -> 0
C30: (6) Other Ancillary Works: On completion of wearing coat, expansion joints, hand rails, crash barriers, road signs & markings, tests on completion in all respect. | D30: 0.005 | E30: Mtr. | F30: =2*(2*4.4) -> 17.6 | G30: =ROUND(H30/F30,2) -> 2164.18 | H30: =$D$24*D30 -> 38089.52 | I30: Mtr. | J30: 2 | K30: =L30/J30 -> 19044.76 | L30: =D30*$D$24 -> 38089.52 | M30: =O30+Q30 -> 2 | N30: =P30+R30 -> 38089.52 | O30: 2 | P30: =O30*K30 -> 38089.52 | Q30: 0 | R30: =Q30*K30 -> 0 | T30: =J30-M30 -> 0 | U30: =T30*K30 -> 0
D31: =SUM(D25:D30) -> 1 | T31: =J31-M31 -> 0 | U31: =T31*K31 -> 0
C32: Sub Total (2) | H32: =SUM(H26:H31) -> 7617904 | L32: =SUM(L26:L31) -> 7617904 | M32: =SUM(M26:M31) -> 10 | N32: =SUM(N26:N31) -> 7617904 | O32: =SUM(O26:O31) -> 10 | P32: =SUM(P26:P31) -> 7617904 | Q32: =SUM(Q26:Q31) -> 0 | R32: =SUM(R26:R31) -> 0 | S32: =SUM(S26:S31) -> 0 | U32: =SUM(U26:U31) -> 0 | W32: =SUM(W26:W31) -> 0
C33: 3.Other Works | D33: =B34*B8 -> 2.7717744e+08 | T33: =J33-M33 -> 0 | U33: =T33*K33 -> 0
A34: Other Works | B34: 0.7277 | C34: (i) Toll Plaza & Toll plaza maintenance | D34: 0.0963 | E34: Each | F34: 4 | G34: =ROUND(H34/F34,2) -> 6673046.8 | H34: =$D$33*D34 -> 26692187 | I34: Each | J34: 4 | U34: =T34*K34 -> 0
C35: a) Toilet Block upto slab level (Including Plaster) | J35: 4 | K35: =L35/J35 -> 1933828.1 | L35: =(H34-13800000)*60% -> 7735312.3 | M35: =O35+Q35 -> 4 | N35: =P35+R35 -> 7735312.3 | O35: 4 | P35: =O35*K35 -> 7735312.3 | Q35: ='[1]Toilet Building'!E92 -> 0 | R35: =Q35*K35 -> 0 | S35: 0.6 | T35: =J35-M35 -> 0 | U35: =T35*K35 -> 0
C36: b)Miscellanious Items (Finishing of Toilet & Approaches of Static Weigh Bridge) | J36: 4 | K36: =L36/J36 -> 1289218.7 | L36: =(H34-13800000)*40% -> 5156874.9 | M36: =O36+Q36 -> 4 | N36: =P36+R36 -> 5156874.9 | O36: 4 | P36: =O36*K36 -> 5156874.9 | Q36: ='[1]Toilet Building'!E95 -> 0 | R36: =Q36*K36 -> 0 | S36: 0.4 | T36: =J36-M36 -> 0 | U36: =T36*K36 -> 0
C37: (ii) Road side drains | H37: =$D$33*D37 -> 0 | L37: =D37*$D$33 -> 0 | P37: =O37*K37 -> 0 | R37: =Q37*K37 -> 0 | T37: =J37-M37 -> 0 | U37: =T37*K37 -> 0
C38: Lined Drain | D38: 0.1265 | E38: km | F38: 5.81 | G38: =ROUND(H38/F38,2) -> 6034930.4 | H38: =$D$33*D38 -> 35062946 | I38: km | J38: 5.81 | K38: =ROUND(L38/J38,2) -> 6034930.4 | L38: =D38*$D$33 -> 35062946 | M38: =O38+Q38 -> 5.542 | N38: =P38+R38 -> 33445584 | O38: 5.542 | P38: =O38*K38 -> 33445584 | Q38: =[1]Drain!E149 -> 0 | R38: =Q38*K38 -> 0 | T38: =J38-M38 -> 0.268 | U38: =T38*K38 -> 1617361.4 | X38: Completed Bill Pending
C39: (iii) Road signs, safety Devices, Road Furniture etc. | D39: 0.006 | E39: km | F39: =F12 -> 6.018 | G39: =ROUND(H39/F39,2) -> 276348.39 | H39: =$D$33*D39 -> 1663064.6 | I39: km | J39: =J38 -> 5.81 | K39: =ROUND(L39/J39,2) -> 286241.76 | L39: =D39*$D$33 -> 1663064.6 | M39: =O39+Q39 -> 5.81 | N39: =P39+R39 -> 1663064.6 | O39: 5.81 | P39: =O39*K39 -> 1663064.6 | Q39: ='[1]Road Furniture'!E22 -> 0 | R39: =Q39*K39 -> 0 | T39: =J39-M39 -> 0 | U39: =T39*K39 -> 0
C40: (iv) Road markings & Studs | D40: 0.0149 | E40: km | F40: =F39 -> 6.018 | G40: =ROUND(H40/F40,2) -> 686265.17 | H40: =$D$33*D40 -> 4129943.8 | I40: km | J40: =J39 -> 5.81 | K40: =ROUND(L40/J40,2) -> 710833.7 | L40: =D40*$D$33 -> 4129943.8 | M40: =O40+Q40 -> 5.493 | N40: =P40+R40 -> 3904609.5 | O40: 5.493 | P40: =O40*K40 -> 3904609.5 | Q40: ='[1]Road Marking'!F21 -> 0 | R40: =Q40*K40 -> 0 | T40: =J40-M40 -> 0.317 | U40: =T40*K40 -> 225334.28 | V40: =SUM('Road marking'!E5:E13)/2000 -> 0.5835 | W40: =V40*K40 -> 414771.46
...

Sheet Annexure-IIBOQ(actual balance)
A1: NHIT Eastan Project Pvt. Ltd
A2: Annexure C3 - BoQ Improvement works of Palanpur /Khemana to Aburoad to Swaroopganj Section (from km 601.000 to km 677.000) of NH 27 in the State of Gujarat and Rajasthan on EPC mode
A3: S No | B3: Item Description | D3: Unit | E3: Rate | F3: Balance Quantity
F4: Quantity | G4: Amount (Rs.)
A5: 1 | B5: Service Road & Junction
A6: 1 | B6: Excavation upto the depth of Embankment:Excavation in Soil using Hydraulic Excavator and Tippers with disposal. Scope of Work: Excavation for roadwork in soil using a hydraulic excavator of 0.9 cum bucket capacity, including cutting, trimming of bottom and side slopes, loading into tippers, and transporting the excavated material to the embankment location, within all lifts and lead up to 1000 metres, in accordance with specified lines, grades, and cross-sections. Execution Requirements: 1) Carry out soil excavation using hydraulic excavator (0.9 cum bucket size). 2) Load excavated soil into tippers without spillage. 3) Trim side slopes and bottom in accordance with design drawings. 4) Transport material to designated embankment site within 1000 m. 5) Maintain line, level, and compaction specifications. 6) Follow safety, environmental, and haul route management norms. Rate Inclusions: Includes Labour, machinery (excavator & tippers), fuel, trimming, loading, transport within 1000 m, traffic control, safety compliance, and supervision. Relevant Code / Specifications: MoRTH Clause 301 ( Generalized) | C6: Excavation | D6: Cum | F6: =Junctions!K8 -> 650 | G6: =E6*F6 -> 0
A7: =A6+1 -> 2 | B7: Embankment Construction with Material Obtained from Borrow Pits Identification of Activity: Construction of embankment using approved soil obtained from borrow pits, including excavation, loading, transportation, unloading. Method of Construction: 1) Identify and approve borrow pit sources. 2) Excavate and load earth using hydraulic excavators. 3) Transport material using tippers to the construction site. 4) Spread uniformly using graders and level to required profile. 5) Compact each layer using vibratory rollers. 6) Maintain moisture content by sprinkling water as needed. Rate Inclusions: The quoted rate shall include the cost of all labour, machinery (excavators, tippers, graders, rollers, water tankers), materials, fuel, lead and lift, quality control, water for compaction. Also includes testing and safety compliance. Relevant Code / Specification: MoRTH Specification Clause 305.3 Note: If earth is obtained from government land, compensation shall be excluded. | C7: Embankment | D7: Cum | F7: =Junctions!L8 -> 325 | G7: =E7*F7 -> 0
A8: =A7+1 -> 3 | B8: Construction of Subgrade and Earthen Shoulders Scope of Work: Construction of subgrade and earthen shoulders using approved material obtained from borrow areas, carried to site with all lifts and leads, and laid in layers not exceeding Specific Thickness. The material shall meet the quality parameters defined in MoRTH Clause 305, ensuring proper gradation, moisture, and plasticity. Execution Requirements: 1) Transport approved borrow material to the site and spread in uniform layers. 2) Maintain layer thickness not exceeding specified thickness (shall not be more than 250 mm when vibratory roller/ vibratory soil commpactor is used & shall not be more than 200 mm when 80-100 kN Static roller is used) 3) Compact the subgrade and the earthen shoulders to 97% MDD or above, both as per IS 2720 (Part 8). 4) Ensure proper grading, slope, and level in accordance with approved drawings. 5) Conduct field density and moisture content tests. 6) Perform surface dressing and provide drainage profile for shoulders. 7) Ensure environmental compliance and maintain safe working conditions. Rate Inclusions: The rate shall include cost of all labour, borrow area development, material procurement, loading, unloading, transportation with all lifts and leads, spreading, grading, compaction with mechanical means, surface dressing, quality control testing (MDD, moisture, gradation), and all incidental works required for proper completion as per specifications. Relevant Code : MoRTH Clause 305 | C8: Subgrade | D8: Cum | F8: =Junctions!M8 -> 325 | G8: =E8*F8 -> 0
A9: =A8+1 -> 4 | B9: Construction of Granular Sub-Base (Grade IV Material) Grading IV Material - ( Mix in Place) Scope of Work: Construction of granular sub-base using close graded material conforming to MoRTH Table 400-1, by spreading the approved material in uniform layers over the prepared subgrade, mixing the material in place using a mechanical rotavator at Optimum Moisture Content (OMC), and compacting it with vibratory rollers to achieve the required density. The work shall be executed as per lines, levels, and cross-sections shown in the drawings or as directed by the Engineer.. Method of Construction: 1) Subgrade Preparation: Clear and level the subgrade as per Clause 301/305. Lightly sprinkle with water and compact using a smooth roller. 2) Material Spreading: Spread the approved close graded material in uniform layers (≤200 mm uncompacted) using a motor grader, as per specified alignment and cross-section. 3) In-Place Mixing: Mix the material in place using a mechanical rotavator, adding water as required to achieve OMC. 4) Compaction: Compact using a vibratory roller (80–100 kN) to achieve a minimum of 98% MDD as per IS:2720 (Part 8). Begin rolling from lower edge and proceed to crown. 5) Surface Finish: Ensure the surface is smooth, free from segregation, and conforms to specified lines and grades. Rolling overlap shall be at least 1/3rd width per pass. 6) Testing & Quality Control: Check moisture content before compaction (1–2% below OMC). Conduct field density tests at 50 m intervals or as directed by the Engineer. Note : When the granular sub-base is constructed in two layers each individual layer shall not be less than 150 mm, in accordance with MoRTH Clause 401.2.1. Rate Inclusions: The rate includes the cost of all labour, approved materials, mixing in place using rotavator at OMC, water, spreading, compaction using vibratory roller, transportation , quality control tests, use of all tools, plants, equipment, safety measures and all incidental works to complete the item Relevant Code / Specifications: MoRTH Clause 401 , MoRTH Table 400-1 | C9: GSB | D9: Cum | F9: =Junctions!N8 -> 130 | G9: =E9*F9 -> 0
A10: =A9+1 -> 5 | B10: Construction of Wet Mix Macadam (WMM): Scope of Work: Construction of Wet Mix Macadam using crushed stone aggregates conforming to MoRTH Clause 406, laid by mechanical paver in uniform layers not exceeding 200 mm thickness, mixed with water to achieve optimum moisture content and compacted to required density. Execution Requirements: 1) Source approved aggregates as per project specifications. 2) Prepare the surface by cleaning, leveling, and ensuring cross-slope as per drawings. 3) Mix aggregates with controlled water addition in a mechanical mixer. 4) Lay WMM using a mechanical paver, ensuring proper grade, slope, and layer thickness (Single layer ≤ 200 mm). 5) Compact each layer using an 8–10 tonne vibratory roller to achieve at least 98% of Maximum Dry Density (MDD) per IS 2720 (Part 8). 6) Conduct field density tests every 50 m or as directed by the Engineer. 7) Ensure GPS-enabled paver use with a minimum blade length of 3.05 m for accurate alignment and finish.Rate Inclusions :The rate includes cost of aggregates, water, mixing, laying, rolling, labour, machinery (paver, roller), fuel, surface preparation, compaction, testing, royalty, transportation, and all incidental works. It also includes and environmental and safety measures. Relevant Code / Specifications: MoRTH Clause 406 | C10: WMM | D10: Cum | F10: =Junctions!P8 -> 162.5 | G10: =E10*F10 -> 0
A11: =A10+1 -> 6 | B11: Prime Coat over Granular Base – Using SS1 Grade Bitumen Emulsion Scope of Work: Applying primer coat using SS1 grade bitumen emulsion over prepared stabilized soil base/crusher run macadam, including cleaning and spraying. Execution Requirements: 1) Mechanically clean the compacted surface. 2) Use SS1 bitumen emulsion as per IS:8887. 3) Spray uniformly at 0.90–1.20 kg/sqm using pressure sprayer. 4) Ensure surface is damp, not wet. 5) Allow minimum 24 hours curing; restrict traffic. Rate Inclusions: Bitumen emulsion, surface prep, labour, equipment, spraying, curing, PPE, barricading, and all incidental items. Relevant Code / Specification: MoRTH Clause 502 , IS:8887, Table 500-3 | C11: Prime Coat | D11: Sqm | F11: ='SR Flexible Pavement'!J30+Junctions!O8 -> 2348 | G11: =E11*F11 -> 0
A12: =A11+1 -> 7 | B12: Tack Coat on Bituminous Surfaces Scope of Work: Providing and applying tack coat using bitumen emulsion on a prepared bituminous surface to ensure effective bonding with the overlying bituminous layer. Execution Requirements: 1) Clean the bituminous surface using a mechanical broom to remove dust and debris. 2) Use RS-1 grade bitumen emulsion conforming to IS:8887. 3) Apply uniformly at a rate of 0.20 to 0.30 kg/sqm using a bitumen pressure distributor. 4) Maintain spray temperature for Bitumious emulsion around 20°C to 70°C, and for CutBack 50°C to 80°C for best results. 5) Avoid overlapping, streaking, or excess pooling; ensure full surface coverage. Rate Inclusions: Rate includes Bitumen emulsion, labour, cleaning, spraying equipment, fuel, PPE, traffic control, Safety compliance and all incidental works. Relevant Code / Specification: MoRTH Clause 503, IS:8887 | C12: Tack Coat | D12: Sqm | F12: ='SR Flexible Pavement'!K30+'SR Flexible Pavement'!M30+Junctions!Q8 -> 9716 | G12: =E12*F12 -> 0
A13: =A12+1 -> 8 | B13: Dense Bituminous Macadam: Grade 2 VG 40 Scope of Work: Providing and laying Dense Graded Bituminous Macadam (DBM) with 26.5 mm nominal size aggregates (Grading 2) premixed with bituminous binder in a hot mix plant, transported and laid over a prepared surface using sensor-controlled paver finisher, and compacted to achieve the specified grade, density, and finish. Execution Requirements: 1) Use Grading 2 aggregates, VG-40 bitumen @ 4.5%, and filler; mix in approved HMP. 2) Maintain mixing temp: 160–170°C, laying ≥150°C, rolling ≥100°C. 3) Lay mix using sensor-controlled hydrostatic paver finisher to proper profile and level. 4) Maintain layer thickness around 50–75 mm. 4) Compact with smooth wheel, vibratory, and PTR rollers to achieve ≥92% lab density (IS:12091). Rate Inclusions :The rate shall include cost of all materials (VG-40 bitumen, aggregates, mineral filler), mixing in HMP, heating, transportation, laying with paver, compaction using rollers, quality control testing, labour, machinery, fuel, PPE, barricading, signage, traffic control, environmental and safety compliance, and all incidental works required to complete the job in accordance with MoRTH specifications. Relevant Code / Specification: MoRTH Clause 505 | C13: DBM | D13: Cum | F13: ='SR Flexible Pavement'!L30+Junctions!R8 -> 182.4 | G13: =E13*F13 -> 0
A14: =A13+1 -> 9 | B14: Bituminous Concrete – Grading 2 (VG-40, 5.4%) Scope of Work: Providing and laying Bituminous Concrete (BC) with Grading II aggregate using higher capacity batch type hot mix plant, premixed with VG-40 bitumen @ 5.4% by weight of total mix and filler, including transportation, laying by hydrostatic sensor paver, and compaction with rollers as per MoRTH Clause 507. Execution Requirements: 1) Prepare mix with VG-40 binder @ 5.4%, Grading 2 aggregates, and filler in HMP. 2) Maintain mix temp 160–170°C, laying temp ≥150°C, rolling temp ≥100°C. 3) Lay mix using sensor paver to desired camber, grade, and level. 4) Compact with smooth, vibratory, and tandem rollers to achieve ≥92% lab density. 5) Maintain layer thickness of 30-40 mm. Rate Inclusions:Covers the complete scope including cost of materials (VG-40, aggregates, filler), HMP operation, transportation, laying, compaction, site preparation, testing, safety, and environmental management. Relevant Specification: MoRTH Clause 507 | C14: BC | D14: Cum | F14: ='SR Flexible Pavement'!N30+Junctions!S8 -> 242.72 | G14: =E14*F14 -> 0
E15: Total Amount:- | G15: =SUM(G6:G14) -> 0

Sheet Rate Summary
A2: Sl No. | B2: Activities | C2: UOM | D2: Basic Rate | E2: Escalation | F2: Final | G2: Remark
A3: 1 | B3: Excavation Road | C3: Cum | D3: 91.5 | E3: =M9 -> 0.14094056 | F3: =D3*(E3+1) -> 104.39606 | G3: SOR 2022-23 Sl Nos-3.3
A4: 2 | B4: Excavation Structure | C4: Cum | D4: 265 | E4: =E3 -> 0.14094056 | F4: =D4*(E4+1) -> 302.34925 | G4: SOR 2022-23 Sl Nos-3.13 (A.i) | I4: Price Adjustment
A5: =A4+1 -> 3 | B5: Embankment Borrow Area | C5: Cum | D5: 146.9 | E5: =E4 -> 0.14094056 | F5: =D5*(E5+1) -> 167.60417 | G5: SOR 2022-23 Sl Nos-3.16 | I5: S No | J5: Item Description | K5: Indices March 2023 | L5: Indices @ July-2026 | M5: Price Adjustment Factor | N5: Remarks
A6: =A5+1 -> 4 | B6: Subgrade | C6: Cum | D6: 175.5 | E6: =E5 -> 0.14094056 | F6: =D6*(E6+1) -> 200.23507 | G6: SOR 2022-23 Sl Nos-3.18
A7: =A6+1 -> 5 | B7: GSB | C7: Cum | D7: 682.69 | E7: =E6 -> 0.14094056 | F7: =D7*(E7+1) -> 778.90871 | G7: SOR 2022-23 Sl Nos-4.1 (iv) | I7: 1 | J7: Price Adjustment Factor @ All Commodities- WPI | K7: 151 | L7: =110*1.53 -> 168.3 | M7: =+(L7-K7)/K7 -> 0.11456954
A8: =A7+1 -> 6 | B8: WMM | C8: Cum | D8: 822.65 | E8: =E7 -> 0.14094056 | F8: =D8*(E8+1) -> 938.59475 | G8: SOR 2022-23 Sl Nos-4.14 (B) | I8: 2 | J8: CPI | K8: 129.4 | L8: 155.6 | M8: =+(L8-K8)/K8 -> 0.20247295
A9: =A8+1 -> 7 | B9: Tack Coat | C9: Sqm | D9: 9.1 | E9: =E8 -> 0.14094056 | F9: =D9*(E9+1) -> 10.382559 | G9: SOR 2022-23 Sl Nos-5.2 (i) | I9: 3 | J9: Weighted Price Index (70%xWPI + 30%xCPI) | M9: =M7*0.7+M8*0.3 -> 0.14094056
A10: =A9+1 -> 8 | B10: Prime Coat | C10: Sqm | D10: 26 | E10: =E9 -> 0.14094056 | F10: =D10*(E10+1) -> 29.664455 | G10: SOR 2022-23 Sl Nos-5.1(A.i)
A11: =A10+1 -> 9 | B11: DBM Grade-1 | C11: Cum | D11: 6450.6 | E11: =E10 -> 0.14094056 | F11: =D11*(E11+1) -> 7359.7512 | G11: SOR 2022-23 Sl Nos-5.4 (i)
A12: =A11+1 -> 10 | B12: BC Grade-1 | C12: Cum | D12: 8170.5 | E12: =E11 -> 0.14094056 | F12: =D12*(E12+1) -> 9322.0549 | G12: SOR 2022-23 Sl Nos-5.5(i)
A13: =A12+1 -> 11 | B13: M20 Kerb | C13: RMT | D13: 153 | E13: =E12 -> 0.14094056 | F13: =D13*(E13+1) -> 174.56391 | G13: SOR 2022-23 Sl Nos-8.1(ii)
A14: =A13+1 -> 12 | B14: Filter Media | C14: Cum | D14: 579.8 | E14: =E13 -> 0.14094056 | F14: =D14*(E14+1) -> 661.51734 | G14: SOR 2022-23 Sl Nos-13.10
A15: =A14+1 -> 13 | B15: PCC M-15 | C15: Cum | D15: 4050 | E15: =E14 -> 0.14094056 | F15: =D15*(E15+1) -> 4620.8093 | G15: SOR 2022-23 Sl Nos-9.6 (A.ii)
A16: =A15+1 -> 14 | B16: RCC M-25 | C16: Cum | D16: 5389 | E16: =E15 -> 0.14094056 | F16: =D16*(E16+1) -> 6148.5287 | G16: SOR 2022-23 Sl Nos-9.6 (E.ii)
A17: =A16+1 -> 15 | B17: HYSD FE-5000 | C17: MT | D17: =60970+7000 -> 67970 | E17: =E16 -> 0.14094056 | F17: =D17*(E17+1) -> 77549.73 | G17: Meterial Rate +7000 for Cut, bend & Placing
A18: =A17+1 -> 16 | B18: Brick masonry | C18: Cum | D18: 5231.18 | E18: =E17 -> 0.14094056 | F18: =D18*(E18+1) -> 5968.4654 | G18: SOR 2022-23 Sl Nos-12.5
A19: =A18+1 -> 17 | B19: Weep Hole | C19: Nos. | D19: 104 | E19: =E18 -> 0.14094056 | F19: =D19*(E19+1) -> 118.65782 | G19: SOR 2022-23 Sl Nos-13.8
A20: =A19+1 -> 18 | B20: Stone/Boulder | C20: Cum | D20: 1041 | E20: =E19 -> 0.14094056 | F20: =D20*(E20+1) -> 1187.7191 | G20: SOR 2022-23 Sl Nos-16.4 (A)
A21: =A20+1 -> 19 | B21: Sand Filling | C21: Cum | D21: 355.22 | E21: =E20 -> 0.14094056 | F21: =D21*(E21+1) -> 405.28491 | G21: SOR 2022-23 Sl Nos-12.3
A22: =A21+1 -> 20 | B22: Median filling | C22: Cum | D22: 189.8 | E22: =E21 -> 0.14094056 | F22: =D22*(E22+1) -> 216.55052 | G22: SOR 2022-23 Sl Nos-4.17
A23: =A22+1 -> 21 | B23: Painting Concrete Surface-Road | C23: Sqm | D23: 71 | E23: =E22 -> 0.14094056 | F23: =D23*(E23+1) -> 81.00678 | G23: SOR 2022-23 Sl Nos-8.8
A24: =A23+1 -> 22 | B24: Painting Steel Surface | C24: Sqm | D24: 64 | E24: =E23 -> 0.14094056 | F24: =D24*(E24+1) -> 73.020196 | G24: SOR 2022-23 Sl Nos-8.9
A25: =A24+1 -> 23 | B25: Road Marking | C25: Sqm | D25: 427 | E25: =E24 -> 0.14094056 | F25: =D25*(E25+1) -> 487.18162 | G25: SOR 2022-23 Sl Nos-8.13
A26: =A25+1 -> 24 | B26: "W" metal beam crash barrier | C26: RMT | D26: 3388 | E26: =E25 -> 0.14094056 | F26: =D26*(E26+1) -> 3865.5066 | G26: SOR 2022-23 Sl Nos-8.23 (A)
A27: =A26+1 -> 25 | B27: PGR | C27: RMT | D27: 3129 | E27: =E26 -> 0.14094056 | F27: =D27*(E27+1) -> 3570.003 | G27: SOR 2022-23 Sl Nos-14.8
A28: =A27+1 -> 26 | B28: Stud | C28: Nos. | D28: 619 | E28: =E27 -> 0.14094056 | F28: =D28*(E28+1) -> 706.24221 | G28: SOR 2022-23 Sl Nos-8.35
K30: PRIME COAT
K31: 3.29 | L31: Prime Coat
L32: Providing and applying primer coat over prepared surface or granular base with bitumen emulsion SS-1 as per IS: 8887 & manufacturer’s specifications @ 6 kg /10 Sqm with a self propelled or towed bitumen pressure sprayer equipped for spraying the material uniformly at specified rates and temperatures as per MoRTH specification CI 502 & 112 (Including cleaning of road surface ) | N32: Sq. m | R32: 26
L33: Basic rate for Construction of Prime Coat per Sqm | R33: =SUM(R32:R32) -> 26
L34: TOTAL RATE of Construction of Prime Coat per Sqm | R34: =ROUND((SUM(R33:R33)),0) -> 26
L35: Deduct Cost of Emsulsion SS1 as per SOR | N35: MT | O35: =1*0.65/1000 -> 0.00065 | P35: 42000 | R35: =-O35*P35 -> -27.3
L36: Add Cost of Emsulsion SS1 as per Current Rate | N36: MT | O36: =1*0.65/1000 -> 0.00065 | P36: 66552 | R36: =O36*P36 -> 43.2588
L37: Final Rate | R37: =R34+R35+R36 -> 41.9588

Sheet SR Flexible Pavement
A1: Service Road
A2: Construction of New RD and junction improvement work
A3: S. No | B3: Chainage (km) | D3: Side | E3: Length (m) | F3: Width (m) | G3: Milling | H3: BC | I3: DBM | J3: Prime Coat (Sqm) | K3: Tack Coat (Sqm) | L3: DBM | M3: Tack Coat (Sqm) | N3: BC Qty (Cum) | O3: Remarks | P3: Sch _B /Maint. | Q3: IE Observation
B4: From | C4: To
A5: DBM Location
A6: 1 | B6: 637700 | C6: 637740 | D6: LHS | E6: =(C6-B6) -> 40 | F6: 3.5 | I6: 0.05 | J6: =E6*F6 -> 140 | K6: =E6*F6 -> 140 | L6: =E6*F6*I6 -> 7 | N6: =E6*F6*H6/1000 -> 0 | O6: SRD | P6: Sch _B | Q6: 3.5 Mtr width Balance
A7: 2 | B7: 637640 | C7: 637720 | D7: RHS | E7: =(C7-B7) -> 80 | F7: 3.5 | I7: 0.05 | J7: =E7*F7 -> 280 | K7: =E7*F7 -> 280 | L7: =E7*F7*I7 -> 14 | O7: SRD | P7: Sch _B | Q7: 3.5 Mtr width Balance
A8: 3 | B8: 637540 | C8: 637640 | D8: RHS | E8: 100 | F8: 3.5 | I8: 0.05 | J8: =E8*F8 -> 350 | K8: =E8*F8 -> 350 | L8: =E8*F8*I8 -> 17.5 | O8: SRD | P8: Sch _B | Q8: 3.5 Mtr width Balance
A9: 4 | B9: 647200 | C9: 647305 | D9: LHS | E9: =(C9-B9) -> 105 | F9: 2 | I9: 0.05 | J9: =E9*F9 -> 210 | K9: =E9*F9 -> 210 | L9: =E9*F9*I9 -> 10.5 | O9: SRD | P9: Sch _B | Q9: 2.0 Mtr width Balance
A10: 5 | B10: 647350 | C10: 647355 | D10: LHS | E10: =(C10-B10) -> 5 | F10: 2 | I10: 0.05 | J10: =E10*F10 -> 10 | K10: =E10*F10 -> 10 | L10: =E10*F10*I10 -> 0.5 | O10: SRD | P10: Sch _B | Q10: 2.0 Mtr width Balance
A11: 6 | B11: 647420 | C11: 647428 | D11: LHS | E11: =(C11-B11) -> 8 | F11: 2 | I11: 0.05 | J11: =E11*F11 -> 16 | K11: =E11*F11 -> 16 | L11: =E11*F11*I11 -> 0.8 | O11: SRD | P11: Sch _B | Q11: 2.0 Mtr width Balance
A12: 7 | B12: 647650 | C12: 647668 | D12: LHS | E12: =(C12-B12) -> 18 | F12: 2 | I12: 0.05 | J12: =E12*F12 -> 36 | K12: =E12*F12 -> 36 | L12: =E12*F12*I12 -> 1.8 | O12: SRD | P12: Sch _B | Q12: 2.0 Mtr width Balance
A13: 8 | B13: 676661 | C13: 676800 | D13: LHS | E13: =(C13-B13) -> 139 | F13: 3.5 | I13: 0.05 | J13: =E13*F13 -> 486.5 | K13: =E13*F13 -> 486.5 | L13: =E13*F13*I13 -> 24.325 | O13: SRD | P13: Sch _B | Q13: 3.5 Mtr width Balance
A14: 9 | B14: 676805 | C14: 676822 | D14: LHS | E14: =(C14-B14) -> 17 | F14: 3.5 | I14: 0.05 | J14: =E14*F14 -> 59.5 | K14: =E14*F14 -> 59.5 | L14: =E14*F14*I14 -> 2.975 | O14: SRD | P14: Sch _B | Q14: 3.5 Mtr width Balance
B15: Entry & Exit
A16: 10 | B16: 676945 | C16: 677000 | D16: LHS | E16: =(C16-B16) -> 55 | F16: 2 | I16: 0.05 | J16: =E16*F16 -> 110 | K16: =E16*F16 -> 110 | L16: =E16*F16*I16 -> 5.5 | O16: SRD | P16: Sch _B | Q16: 2.0 Mtr width Balance exit side
A18: BC Location
A19: 1 | B19: 647350 | C19: 647355 | D19: LHS | E19: =(C19-B19) -> 5 | F19: 2 | H19: 0.04 | M19: =E19*F19 -> 10 | N19: =E19*F19*H19 -> 0.4 | O19: SRD | P19: Sch _B | Q19: 2.0 Mtr width Balance
A20: 2 | B20: 647420 | C20: 647428 | D20: LHS | E20: =(C20-B20) -> 8 | F20: 2 | H20: 0.04 | M20: =E20*F20 -> 16 | N20: =E20*F20*H20 -> 0.64 | O20: SRD | P20: Sch _B | Q20: 2.0 Mtr width Balance
A21: 3 | B21: 647650 | C21: 647668 | D21: LHS | E21: =(C21-B21) -> 18 | F21: 2 | H21: 0.04 | M21: =E21*F21 -> 36 | N21: =E21*F21*H21 -> 1.44 | O21: SRD | P21: Sch _B | Q21: 2.0 Mtr width Balance
A22: 4 | B22: 676805 | C22: 676822 | D22: LHS | E22: =(C22-B22) -> 17 | F22: 3.5 | H22: 0.04 | M22: =E22*F22 -> 59.5 | N22: =E22*F22*H22 -> 2.38 | O22: SRD | P22: Sch _B | Q22: 3.5 Mtr width Balance
A23: 5 | B23: 637700 | C23: 638000 | D23: LHS | E23: =(C23-B23) -> 300 | F23: 3.5 | H23: 0.04 | I23: 0 | L23: 0 | M23: =E23*F23 -> 1050 | N23: =E23*F23*H23 -> 42 | O23: SRD | P23: Sch _B | Q23: 3.5 Mtr width Balance
A24: 6 | B24: 637200 | C24: 637720 | D24: RHS | E24: =(C24-B24) -> 520 | F24: 3.5 | H24: 0.04 | I24: 0 | L24: 0 | M24: =E24*F24 -> 1820 | N24: =E24*F24*H24 -> 72.8 | O24: SRD | P24: Sch _B | Q24: 3.5 Mtr width Balance
A25: 7 | B25: 647200 | C25: 647305 | D25: LHS | E25: =(C25-B25) -> 105 | F25: 2 | H25: 0.04 | I25: 0 | L25: 0 | M25: =E25*F25 -> 210 | N25: =E25*F25*H25 -> 8.4 | O25: SRD | P25: Sch _B | Q25: 2.0 Mtr width Balance
A26: 8 | B26: 676661 | C26: 676800 | D26: LHS | E26: =(C26-B26) -> 139 | F26: 3.5 | H26: 0.04 | I26: 0 | L26: 0 | M26: =E26*F26 -> 486.5 | N26: =E26*F26*H26 -> 19.46 | O26: SRD | P26: Sch _B | Q26: 3.5 Mtr width Balance
A27: 9 | B27: 676945 | C27: 677000 | D27: LHS | E27: =(C27-B27) -> 55 | F27: 2 | H27: 0.04 | I27: 0 | L27: 0 | M27: =E27*F27 -> 110 | N27: =E27*F27*H27 -> 4.4 | O27: SRD | P27: Sch _B | Q27: 2.0 Mtr width Balance exit side
B28: Entry & Exit
A29: 10 | B29: 647120 | C29: 647200 | D29: LHS | E29: =(C29-B29) -> 80 | F29: 4 | H29: 0.04 | I29: 0 | L29: 0 | M29: =E29*F29 -> 320 | N29: =E29*F29*H29 -> 12.8 | O29: SRD | P29: Sch _B | Q29: Entry side flaring balance
A30: Total Qty:- | E30: =SUM(E19:E29) -> 1247 | J30: =SUM(J6:J29) -> 1698 | K30: =SUM(K6:K29) -> 1698 | L30: =SUM(L6:L29) -> 84.9 | M30: =SUM(M6:M29) -> 4118 | N30: =SUM(N6:N29) -> 164.72

Sheet Junctions
A1: Current Status of Initial Improvement works as per Schedule B (As on 08.11.2025)
A2: Junction improvement Work
A3: Sr.no. | B3: Description | C3: Km. | D3: Side | E3: Status of IE's Joint site visit | F3: Quantity | H3: Observation | K3: 650
F4: Sch-B | G4: Maintenance | K4: Excavation | L4: Emb | M4: SG | N4: GSB | O4: Prime Coat | P4: WMM | Q4: Tack Coat | R4: DBM | S4: BC | T4: Marking
A5: 1 | B5: Junction improvement | C5: 647+040 | D5: LHS | E5: Balance at site (ROW issue) | F5: 1 | H5: IE/Balance work as per site condition | I5: All Layer Bal. | K5: =$K$3*1 -> 650 | L5: =$K$3*0.5 -> 325 | M5: =$K$3*0.5 -> 325 | N5: =$K$3*0.2 -> 130 | O5: =$K$3 -> 650 | P5: =$K$3*0.25 -> 162.5 | Q5: =$K$3*2 -> 1300 | R5: =$K$3*0.05 -> 32.5 | S5: =$K$3*0.04 -> 26 | T5: =K3*0.15 -> 97.5
A6: 2 | B6: Junction improvement | C6: 652+800 | D6: LHS | E6: Balance at site | F6: 1 | H6: IE/Balance work as per site condition | I6: DBM & BC | Q6: =$K$3*2 -> 1300 | R6: =$K$3*0.05 -> 32.5 | S6: =$K$3*0.04 -> 26 | T6: =T5 -> 97.5
A7: 3 | B7: Junction improvement | C7: 652+800 | D7: RHS | E7: Balance at site | F7: 1 | H7: IE/Balance work as per site condition | I7: DBM & BC | Q7: =$K$3*2 -> 1300 | R7: =$K$3*0.05 -> 32.5 | S7: =$K$3*0.04 -> 26 | T7: =T6 -> 97.5
E8: Total Nos=> | F8: =SUM(F5:F7) -> 3 | K8: =SUM(K5:K7) -> 650 | L8: =SUM(L5:L7) -> 325 | M8: =SUM(M5:M7) -> 325 | N8: =SUM(N5:N7) -> 130 | O8: =SUM(O5:O7) -> 650 | P8: =SUM(P5:P7) -> 162.5 | Q8: =SUM(Q5:Q7) -> 3900 | R8: =SUM(R5:R7) -> 97.5 | ... U8: =SUM(U5:U7) -> 0
K11: =30*4 -> 120 | L11: =K11/2 -> 60
K12: =30*6.7 -> 201 | L12: =K12/2 -> 100.5
K13: =17*7.5 -> 127.5 | L13: =K13 -> 127.5
K14: =12*7.5 -> 90 | L14: =K14 -> 90
K15: =18*6.6 -> 118.8 | L15: =K15/2 -> 59.4

Sheet Line drain
A1: Measurment Sheet
A2: Road Side Drain | J2: Diamension | P2: Schedule Quantity | X2: Drain Cover
A3: S.No. | B3: Chainage | D3: Side | E3: Length | F3: Quantity | H3: Remark | I3: Observation | J3: Wall Height | K3: Wall Thick | L3: Raft Thick | M3: Raft Width | N3: Slab Thick | O3: Slab Width | P3: Excavation | Q3: Levelling Course (M-15) | R3: Foundation (M-25) | S3: Wall (M-25) | T3: Slab (M-25) | U3: HYSD Steel | V3: Weep Hole | W3: Back filling | X3: Slab (M-25) | Y3: HYSD Steel
B4: From | C4: To | F4: Sch-B | G4: Maintenance
A5: Section-1 (601+000 to 646+000) | J5: Mtr | K5: Mtr | L5: Mtr | M5: Mtr | N5: Mtr | O5: Mtr | P5: Cum | Q5: Cum | R5: Cum | S5: Cum | T5: Cum | U5: MT | V5: Nos. | W5: Cum | X5: Cum | Y5: MT
A6: 1 | B6: 637.15 | C6: 637.155 | D6: RHS | E6: =(C6-B6)*1000 -> 5 | F6: =E6 -> 5 | G6: =E6 -> 5 | I6: Damaged | J6: 0.6 | K6: 0.1 | L6: 0.15 | M6: =1.35+0.2 -> 1.55 | N6: 0.1 | O6: =1.35+0.2 -> 1.55 | P6: =F6*(J6+L6+N6+0.1)*(M6+0.2) -> 8.3125 | Q6: =F6*(M6+0.2)*0.1 -> 0.875 | R6: =F6*L6*M6 -> 1.1625 | S6: =J6*K6*F6*2 -> 0.6 | T6: =F6*N6*O6 -> 0.775 | U6: =(R6+S6+T6)*0.05 -> 0.126875 | V6: =F6 -> 5 | W6: =E6*J6*1 -> 3 | X6: =G6*N6*O6 -> 0.775 | Y6: =X6*0.01 -> 0.00775
A7: 2 | B7: 637.19 | C7: 637.195 | D7: LHS | E7: =(C7-B7)*1000 -> 5 | F7: =E7 -> 5 | G7: =E7 -> 5 | I7: Damaged | J7: 0.6 | K7: 0.1 | L7: 0.15 | M7: =1.35+0.2 -> 1.55 | N7: 0.1 | O7: =1.35+0.2 -> 1.55 | P7: =F7*(J7+L7+N7+0.1)*(M7+0.2) -> 8.3125 | Q7: =F7*(M7+0.2)*0.1 -> 0.875 | R7: =F7*L7*M7 -> 1.1625 | S7: =J7*K7*F7*2 -> 0.6 | T7: =F7*N7*O7 -> 0.775 | U7: =(R7+S7+T7)*0.05 -> 0.126875 | V7: =F7 -> 5 | W7: =E7*J7*1 -> 3 | X7: =G7*N7*O7 -> 0.775 | Y7: =X7*0.01 -> 0.00775
A8: 3 | B8: 637.22 | C8: 637.223 | D8: LHS | E8: =(C8-B8)*1000 -> 3 | F8: =E8 -> 3 | G8: =E8 -> 3 | I8: Damaged | J8: 0.6 | K8: 0.1 | L8: 0.15 | M8: =1.35+0.2 -> 1.55 | N8: 0.1 | O8: =1.35+0.2 -> 1.55 | P8: =F8*(J8+L8+N8+0.1)*(M8+0.2) -> 4.9875 | Q8: =F8*(M8+0.2)*0.1 -> 0.525 | R8: =F8*L8*M8 -> 0.6975 | S8: =J8*K8*F8*2 -> 0.36 | T8: =F8*N8*O8 -> 0.465 | U8: =(R8+S8+T8)*0.05 -> 0.076125 | V8: =F8 -> 3 | W8: =E8*J8*1 -> 1.8 | X8: =G8*N8*O8 -> 0.465 | Y8: =X8*0.01 -> 0.00465
A9: 4 | B9: 637.28 | C9: 637.285 | D9: LHS | E9: =(C9-B9)*1000 -> 5 | F9: =E9 -> 5 | G9: =E9 -> 5 | I9: Damaged | J9: 0.6 | K9: 0.1 | L9: 0.15 | M9: =1.35+0.2 -> 1.55 | N9: 0.1 | O9: =1.35+0.2 -> 1.55 | P9: =F9*(J9+L9+N9+0.1)*(M9+0.2) -> 8.3125 | Q9: =F9*(M9+0.2)*0.1 -> 0.875 | R9: =F9*L9*M9 -> 1.1625 | S9: =J9*K9*F9*2 -> 0.6 | T9: =F9*N9*O9 -> 0.775 | U9: =(R9+S9+T9)*0.05 -> 0.126875 | V9: =F9 -> 5 | W9: =E9*J9*1 -> 3 | X9: =G9*N9*O9 -> 0.775 | Y9: =X9*0.01 -> 0.00775
A10: 5 | B10: 637.3 | C10: 637.31 | D10: RHS | E10: =(C10-B10)*1000 -> 10 | F10: =E10 -> 10 | G10: =E10 -> 10 | I10: Damaged | J10: 0.6 | K10: 0.1 | L10: 0.15 | M10: =1.35+0.2 -> 1.55 | N10: 0.1 | O10: =1.35+0.2 -> 1.55 | P10: =F10*(J10+L10+N10+0.1)*(M10+0.2) -> 16.625 | Q10: =F10*(M10+0.2)*0.1 -> 1.75 | R10: =F10*L10*M10 -> 2.325 | S10: =J10*K10*F10*2 -> 1.2 | T10: =F10*N10*O10 -> 1.55 | U10: =(R10+S10+T10)*0.05 -> 0.25375 | V10: =F10 -> 10 | W10: =E10*J10*1 -> 6 | X10: =G10*N10*O10 -> 1.55 | Y10: =X10*0.01 -> 0.0155
A11: 6 | B11: 637.35 | C11: 637.353 | D11: RHS | E11: =(C11-B11)*1000 -> 3 | F11: =E11 -> 3 | G11: =E11 -> 3 | I11: Damaged | J11: 0.6 | K11: 0.1 | L11: 0.15 | M11: =1.35+0.2 -> 1.55 | N11: 0.1 | O11: =1.35+0.2 -> 1.55 | P11: =F11*(J11+L11+N11+0.1)*(M11+0.2) -> 4.9875 | Q11: =F11*(M11+0.2)*0.1 -> 0.525 | R11: =F11*L11*M11 -> 0.6975 | S11: =J11*K11*F11*2 -> 0.36 | T11: =F11*N11*O11 -> 0.465 | U11: =(R11+S11+T11)*0.05 -> 0.076125 | V11: =F11 -> 3 | W11: =E11*J11*1 -> 1.8 | X11: =G11*N11*O11 -> 0.465 | Y11: =X11*0.01 -> 0.00465
A12: 7 | B12: 637.42 | C12: 637.425 | D12: LHS | E12: =(C12-B12)*1000 -> 5 | F12: =E12 -> 5 | G12: =E12 -> 5 | I12: Damaged | J12: 0.6 | K12: 0.1 | L12: 0.15 | M12: =1.35+0.2 -> 1.55 | N12: 0.1 | O12: =1.35+0.2 -> 1.55 | P12: =F12*(J12+L12+N12+0.1)*(M12+0.2) -> 8.3125 | Q12: =F12*(M12+0.2)*0.1 -> 0.875 | R12: =F12*L12*M12 -> 1.1625 | S12: =J12*K12*F12*2 -> 0.6 | T12: =F12*N12*O12 -> 0.775 | U12: =(R12+S12+T12)*0.05 -> 0.126875 | V12: =F12 -> 5 | W12: =E12*J12*1 -> 3 | X12: =G12*N12*O12 -> 0.775 | Y12: =X12*0.01 -> 0.00775
A13: 8 | B13: 637.45 | C13: 637.453 | D13: LHS | E13: =(C13-B13)*1000 -> 3 | F13: =E13 -> 3 | G13: =E13 -> 3 | I13: Damaged | J13: 0.6 | K13: 0.1 | L13: 0.15 | M13: =1.35+0.2 -> 1.55 | N13: 0.1 | O13: =1.35+0.2 -> 1.55 | P13: =F13*(J13+L13+N13+0.1)*(M13+0.2) -> 4.9875 | Q13: =F13*(M13+0.2)*0.1 -> 0.525 | R13: =F13*L13*M13 -> 0.6975 | S13: =J13*K13*F13*2 -> 0.36 | T13: =F13*N13*O13 -> 0.465 | U13: =(R13+S13+T13)*0.05 -> 0.076125 | V13: =F13 -> 3 | W13: =E13*J13*1 -> 1.8 | X13: =G13*N13*O13 -> 0.465 | Y13: =X13*0.01 -> 0.00465
A14: 9 | B14: 637.47 | C14: 637.473 | D14: LHS | E14: =(C14-B14)*1000 -> 3 | F14: =E14 -> 3 | G14: =E14 -> 3 | I14: Damaged | J14: 0.6 | K14: 0.1 | L14: 0.15 | M14: =1.35+0.2 -> 1.55 | N14: 0.1 | O14: =1.35+0.2 -> 1.55 | P14: =F14*(J14+L14+N14+0.1)*(M14+0.2) -> 4.9875 | Q14: =F14*(M14+0.2)*0.1 -> 0.525 | R14: =F14*L14*M14 -> 0.6975 | S14: =J14*K14*F14*2 -> 0.36 | T14: =F14*N14*O14 -> 0.465 | U14: =(R14+S14+T14)*0.05 -> 0.076125 | V14: =F14 -> 3 | W14: =E14*J14*1 -> 1.8 | X14: =G14*N14*O14 -> 0.465 | Y14: =X14*0.01 -> 0.00465
A15: 10 | B15: 637.625 | C15: 637.635 | D15: LHS | E15: =(C15-B15)*1000 -> 10 | F15: =E15 -> 10 | G15: =E15 -> 10 | I15: Damaged | J15: 0.6 | K15: 0.1 | L15: 0.15 | M15: =1.35+0.2 -> 1.55 | N15: 0.1 | O15: =1.35+0.2 -> 1.55 | P15: =F15*(J15+L15+N15+0.1)*(M15+0.2) -> 16.625 | Q15: =F15*(M15+0.2)*0.1 -> 1.75 | R15: =F15*L15*M15 -> 2.325 | S15: =J15*K15*F15*2 -> 1.2 | T15: =F15*N15*O15 -> 1.55 | U15: =(R15+S15+T15)*0.05 -> 0.25375 | V15: =F15 -> 10 | W15: =E15*J15*1 -> 6 | X15: =G15*N15*O15 -> 1.55 | Y15: =X15*0.01 -> 0.0155
A16: 11 | B16: 637.65 | C16: 637.66 | D16: LHS | E16: =(C16-B16)*1000 -> 10 | F16: =E16 -> 10 | G16: =E16 -> 10 | I16: Damaged | J16: 0.6 | K16: 0.1 | L16: 0.15 | M16: =1.35+0.2 -> 1.55 | N16: 0.1 | O16: =1.35+0.2 -> 1.55 | P16: =F16*(J16+L16+N16+0.1)*(M16+0.2) -> 16.625 | Q16: =F16*(M16+0.2)*0.1 -> 1.75 | R16: =F16*L16*M16 -> 2.325 | S16: =J16*K16*F16*2 -> 1.2 | T16: =F16*N16*O16 -> 1.55 | U16: =(R16+S16+T16)*0.05 -> 0.25375 | V16: =F16 -> 10 | W16: =E16*J16*1 -> 6 | X16: =G16*N16*O16 -> 1.55 | Y16: =X16*0.01 -> 0.0155
A17: 12 | B17: 637.71 | C17: 637.73 | D17: LHS | E17: =(C17-B17)*1000 -> 20 | F17: =E17 -> 20 | G17: =E17 -> 20 | I17: Damaged | J17: 0.6 | K17: 0.1 | L17: 0.15 | M17: =1.35+0.2 -> 1.55 | N17: 0.1 | O17: =1.35+0.2 -> 1.55 | P17: =F17*(J17+L17+N17+0.1)*(M17+0.2) -> 33.25 | Q17: =F17*(M17+0.2)*0.1 -> 3.5 | R17: =F17*L17*M17 -> 4.65 | S17: =J17*K17*F17*2 -> 2.4 | T17: =F17*N17*O17 -> 3.1 | U17: =(R17+S17+T17)*0.05 -> 0.5075 | V17: =F17 -> 20 | W17: =E17*J17*1 -> 12 | X17: =G17*N17*O17 -> 3.1 | Y17: =X17*0.01 -> 0.031
... A19: 14 | B19: 637.9 | C19: 637.92 | D19: LHS | E19: =(C19-B19)*1000 -> 20 | F19: =E19 -> 20 | G19: =E19 -> 20 | I19: Damaged | J19: 0.6 | K19: 0.1 | L19: 0.15 | M19: =1.35+0.2 -> 1.55 | N19: 0.1 | O19: =1.35+0.2 -> 1.55 | P19: =F19*(J19+L19+N19+0.1)*(M19+0.2) -> 33.25 | Q19: =F19*(M19+0.2)*0.1 -> 3.5 | R19: =F19*L19*M19 -> 4.65 | S19: =J19*K19*F19*2 -> 2.4 | T19: =F19*N19*O19 -> 3.1 | U19: =(R19+S19+T19)*0.05 -> 0.5075 | V19: =F19 -> 20 | W19: =E19*J19*1 -> 12 | X19: =G19*N19*O19 -> 3.1 | Y19: =X19*0.01 -> 0.031
A20: Total (A) | E20: =SUM(E6:E19) -> 107 | F20: =SUM(F6:F19) -> 107 | G20: =SUM(G6:G19) -> 107 | AC20: Weep Hole | AG20: 1 | AH20: =+#REF! -> #REF! | AK20: =+AH20*2 -> #REF! | AL20: =+AK20 -> #REF! | AM20: Nos
A21: Section-2 (646+000 to 677+000) | AC21: Parapet Wall | AG21: 1 | AH21: =+AH20 -> #REF! | AI21: =+#REF! -> #REF! | AJ21: 0.6 | AK21: =PRODUCT(AG21:AJ21) -> #REF! | AL21: =+AK21 -> #REF! | AM21: Cum
A23: 1 | B23: 647.65 | C23: 647.653 | D23: LHS | E23: =(C23-B23)*1000 -> 3 | F23: =E23 -> 3 | G23: =E23 -> 3 | I23: Damaged | J23: =(1.083+1.059+0.982+0.887+0.791)/5 -> 0.9604 | K23: 0.1 | L23: 0.15 | M23: =1.35+0.2 -> 1.55 | N23: 0.1 | O23: =1.35+0.2 -> 1.55 | P23: =F23*(J23+L23+N23+0.1)*(M23+0.2) -> 6.8796 | Q23: =F23*(M23+0.2)*0.1 -> 0.525 | R23: =F23*L23*M23 -> 0.6975 | S23: =J23*K23*F23*2 -> 0.57624 | T23: =F23*N23*O23 -> 0.465 | U23: =(R23+S23+T23)*0.05 -> 0.086937 | V23: =F23 -> 3 | W23: =E23*J23*1 -> 2.8812 | X23: =G23*N23*O23 -> 0.465 | Y23: =X23*0.01 -> 0.00465
A24: 2 | B24: 648.8 | C24: 648.812 | D24: RHS | E24: =(C24-B24)*1000 -> 12 | F24: =E24 -> 12 | G24: =E24 -> 12 | I24: Damaged | J24: =(1.083+1.059+0.982+0.887+0.791)/5 -> 0.9604 | K24: 0.1 | L24: 0.15 | M24: =1.35+0.2 -> 1.55 | N24: 0.1 | O24: =1.35+0.2 -> 1.55 | P24: =F24*(J24+L24+N24+0.1)*(M24+0.2) -> 27.5184 | Q24: =F24*(M24+0.2)*0.1 -> 2.1 | R24: =F24*L24*M24 -> 2.79 | S24: =J24*K24*F24*2 -> 2.30496 | T24: =F24*N24*O24 -> 1.86 | U24: =(R24+S24+T24)*0.05 -> 0.347748 | V24: =F24 -> 12 | W24: =E24*J24*1 -> 11.5248 | X24: =G24*N24*O24 -> 1.86 | Y24: =X24*0.01 -> 0.0186
A25: 3 | B25: 660.68 | C25: 660.683 | D25: RHS | E25: =(C25-B25)*1000 -> 3 | F25: =E25 -> 3 | G25: =E25 -> 3 | I25: Damaged | J25: =(1.083+1.059+0.982+0.887+0.791)/5 -> 0.9604 | K25: 0.1 | L25: 0.15 | M25: =1.35+0.2 -> 1.55 | N25: 0.1 | O25: =1.35+0.2 -> 1.55 | P25: =F25*(J25+L25+N25+0.1)*(M25+0.2) -> 6.8796 | Q25: =F25*(M25+0.2)*0.1 -> 0.525 | R25: =F25*L25*M25 -> 0.6975 | S25: =J25*K25*F25*2 -> 0.57624 | T25: =F25*N25*O25 -> 0.465 | U25: =(R25+S25+T25)*0.05 -> 0.086937 | V25: =F25 -> 3 | W25: =E25*J25*1 -> 2.8812 | X25: =G25*N25*O25 -> 0.465 | Y25: =X25*0.01 -> 0.00465
A26: 4 | B26: 666.63 | C26: 666.635 | D26: LHS | E26: =(C26-B26)*1000 -> 5 | F26: =E26 -> 5 | G26: =E26 -> 5 | I26: Damaged | J26: =(1.083+1.059+0.982+0.887+0.791)/5 -> 0.9604 | K26: 0.1 | L26: 0.15 | M26: =1.35+0.2 -> 1.55 | N26: 0.1 | O26: =1.35+0.2 -> 1.55 | P26: =F26*(J26+L26+N26+0.1)*(M26+0.2) -> 11.466 | Q26: =F26*(M26+0.2)*0.1 -> 0.875 | R26: =F26*L26*M26 -> 1.1625 | S26: =J26*K26*F26*2 -> 0.9604 | T26: =F26*N26*O26 -> 0.775 | U26: =(R26+S26+T26)*0.05 -> 0.144895 | V26: =F26 -> 5 | W26: =E26*J26*1 -> 4.802 | X26: =G26*N26*O26 -> 0.775 | Y26: =X26*0.01 -> 0.00775
A27: 5 | B27: 666.83 | C27: 666.845 | D27: LHS | E27: =(C27-B27)*1000 -> 15 | F27: =E27 -> 15 | G27: =E27 -> 15 | I27: Damaged | J27: =(1.083+1.059+0.982+0.887+0.791)/5 -> 0.9604 | K27: 0.1 | L27: 0.15 | M27: =1.35+0.2 -> 1.55 | N27: 0.1 | O27: =1.35+0.2 -> 1.55 | P27: =F27*(J27+L27+N27+0.1)*(M27+0.2) -> 34.398 | Q27: =F27*(M27+0.2)*0.1 -> 2.625 | R27: =F27*L27*M27 -> 3.4875 | S27: =J27*K27*F27*2 -> 2.8812 | T27: =F27*N27*O27 -> 2.325 | U27: =(R27+S27+T27)*0.05 -> 0.434685 | V27: =F27 -> 15 | W27: =E27*J27*1 -> 14.406 | X27: =G27*N27*O27 -> 2.325 | Y27: =X27*0.01 -> 0.02325
A28: 6 | B28: 671 | C28: 671.01 | D28: LHS | E28: =(C28-B28)*1000 -> 10 | F28: =E28 -> 10 | G28: =E28 -> 10 | I28: Damaged | J28: =(1.083+1.059+0.982+0.887+0.791)/5 -> 0.9604 | K28: 0.1 | L28: 0.15 | M28: =1.35+0.2 -> 1.55 | N28: 0.1 | O28: =1.35+0.2 -> 1.55 | P28: =F28*(J28+L28+N28+0.1)*(M28+0.2) -> 22.932 | Q28: =F28*(M28+0.2)*0.1 -> 1.75 | R28: =F28*L28*M28 -> 2.325 | S28: =J28*K28*F28*2 -> 1.9208 | T28: =F28*N28*O28 -> 1.55 | U28: =(R28+S28+T28)*0.05 -> 0.28979 | V28: =F28 -> 10 | W28: =E28*J28*1 -> 9.604 | X28: =G28*N28*O28 -> 1.55 | Y28: =X28*0.01 -> 0.0155
A29: 7 | B29: 676.58 | C29: 676.61 | D29: LHS | E29: =(C29-B29)*1000 -> 30 | F29: =E29 -> 30 | G29: =E29 -> 30 | I29: Damaged | J29: =(1.083+1.059+0.982+0.887+0.791)/5 -> 0.9604 | K29: 0.1 | L29: 0.15 | M29: =1.35+0.2 -> 1.55 | N29: 0.1 | O29: =1.35+0.2 -> 1.55 | P29: =F29*(J29+L29+N29+0.1)*(M29+0.2) -> 68.796 | Q29: =F29*(M29+0.2)*0.1 -> 5.25 | R29: =F29*L29*M29 -> 6.975 | S29: =J29*K29*F29*2 -> 5.7624 | T29: =F29*N29*O29 -> 4.65 | U29: =(R29+S29+T29)*0.05 -> 0.86937 | V29: =F29 -> 30 | W29: =E29*J29*1 -> 28.812 | X29: =G29*N29*O29 -> 4.65 | Y29: =X29*0.01 -> 0.0465
A30: 8 | B30: 676.61 | C30: 676.613 | D30: RHS | E30: =(C30-B30)*1000 -> 3 | F30: =E30 -> 3 | G30: =E30 -> 3 | I30: Damaged | J30: =(1.083+1.059+0.982+0.887+0.791)/5 -> 0.9604 | K30: 0.1 | L30: 0.15 | M30: =1.35+0.2 -> 1.55 | N30: 0.1 | O30: =1.35+0.2 -> 1.55 | P30: =F30*(J30+L30+N30+0.1)*(M30+0.2) -> 6.8796 | Q30: =F30*(M30+0.2)*0.1 -> 0.525 | R30: =F30*L30*M30 -> 0.6975 | S30: =J30*K30*F30*2 -> 0.57624 | T30: =F30*N30*O30 -> 0.465 | U30: =(R30+S30+T30)*0.05 -> 0.086937 | V30: =F30 -> 3 | W30: =E30*J30*1 -> 2.8812 | X30: =G30*N30*O30 -> 0.465 | Y30: =X30*0.01 -> 0.00465
A31: 9 | B31: 676.7 | C31: 676.705 | D31: LHS | E31: =(C31-B31)*1000 -> 5 | F31: =E31 -> 5 | G31: =E31 -> 5 | I31: Damaged | J31: =(1.083+1.059+0.982+0.887+0.791)/5 -> 0.9604 | K31: 0.1 | L31: 0.15 | M31: =1.35+0.2 -> 1.55 | N31: 0.1 | O31: =1.35+0.2 -> 1.55 | P31: =F31*(J31+L31+N31+0.1)*(M31+0.2) -> 11.466 | Q31: =F31*(M31+0.2)*0.1 -> 0.875 | R31: =F31*L31*M31 -> 1.1625 | S31: =J31*K31*F31*2 -> 0.9604 | T31: =F31*N31*O31 -> 0.775 | U31: =(R31+S31+T31)*0.05 -> 0.144895 | V31: =F31 -> 5 | W31: =E31*J31*1 -> 4.802 | X31: =G31*N31*O31 -> 0.775 | Y31: =X31*0.01 -> 0.00775
A32: 10 | B32: 676.85 | C32: 676.855 | D32: RHS | E32: =(C32-B32)*1000 -> 5 | F32: =E32 -> 5 | G32: =E32 -> 5 | I32: Damaged | J32: =(1.083+1.059+0.982+0.887+0.791)/5 -> 0.9604 | K32: 0.1 | L32: 0.15 | M32: =1.35+0.2 -> 1.55 | N32: 0.1 | O32: =1.35+0.2 -> 1.55 | P32: =F32*(J32+L32+N32+0.1)*(M32+0.2) -> 11.466 | Q32: =F32*(M32+0.2)*0.1 -> 0.875 | R32: =F32*L32*M32 -> 1.1625 | S32: =J32*K32*F32*2 -> 0.9604 | T32: =F32*N32*O32 -> 0.775 | U32: =(R32+S32+T32)*0.05 -> 0.144895 | V32: =F32 -> 5 | W32: =E32*J32*1 -> 4.802 | X32: =G32*N32*O32 -> 0.775 | Y32: =X32*0.01 -> 0.00775
A33: Total (B) | E33: =SUM(E23:E32) -> 91 | F33: =SUM(F23:F32) -> 91 | G33: =SUM(G23:G32) -> 91 | J33: =(1.083+1.059+0.982+0.887+0.791)/5 -> 0.9604 | K33: 0.1 | L33: 0.15 | M33: =1.35+0.2 -> 1.55 | N33: 0.1 | O33: =1.35+0.2 -> 1.55 | P33: =F33*(J33+L33+N33+0.1)*(M33+0.2) -> 208.6812 | Q33: =F33*(M33+0.2)*0.1 -> 15.925 | R33: =F33*L33*M33 -> 21.1575 | S33: =J33*K33*F33*2 -> 17.47928 | T33: =F33*N33*O33 -> 14.105 | U33: =(R33+S33+T33)*0.05 -> 2.637089 | V33: =F33 -> 91 | W33: =E33*J33*1 -> 87.3964 | X33: =G33*N33*O33 -> 14.105 | Y33: =X33*0.01 -> 0.14105
A34: Total Balance Qty. (A+B) | E34: =E20+E33 -> 198 | F34: =F20+F33 -> 198 | G34: =G20+G33 -> 198 | J34: =SUM(J20:J33) -> 10.5644 | K34: =SUM(K20:K33) -> 1.1 | L34: =SUM(L20:L33) -> 1.65 | M34: =SUM(M20:M33) -> 17.05 | N34: =SUM(N20:N33) -> 1.1 | O34: =SUM(O20:O33) -> 17.05 | P34: =SUM(P6:P33) -> 595.2499 | Q34: =SUM(Q20:Q33) -> 31.85 | R34: =SUM(R20:R33) -> 42.315 | S34: =SUM(S20:S33) -> 34.95856 | T34: =SUM(T20:T33) -> 28.21 | U34: =SUM(U20:U33) -> 5.274178 | V34: =SUM(V20:V33) -> 182 | W34: =SUM(W20:W33) -> 174.7928 | X34: =SUM(X20:X33) -> 28.21 | Y34: =SUM(Y20:Y33) -> 0.2821

Sheet Road marking
A1: Service Road
A2: Road marking
A3: S. No | B3: Chainage (km) | D3: Side | E3: Length (m) | F3: EL | G3: CL | H3: Quantity (Sq.M) | J3: Observation
B4: From | C4: To | H4: Sch-B | I4: Maintenance
A5: 1 | B5: 647350 | C5: 647355 | D5: LHS | E5: =(C5-B5) -> 5 | F5: 0.15 | G5: 0.1 | H5: =(E5*F5)+(E5*G5)/3 -> 0.91666667 | J5: Balance work as per site condition
A6: 2 | B6: 647420 | C6: 647428 | D6: LHS | E6: =(C6-B6) -> 8 | F6: 0.15 | G6: 0.1 | H6: =(E6*F6)+(E6*G6)/3 -> 1.4666667 | J6: Balance work as per site condition
A7: 3 | B7: 647650 | C7: 647668 | D7: LHS | E7: =(C7-B7) -> 18 | F7: 0.15 | G7: 0.1 | H7: =(E7*F7)+(E7*G7)/3 -> 3.3 | J7: Balance work as per site condition
A8: 4 | B8: 676805 | C8: 676822 | D8: LHS | E8: =(C8-B8) -> 17 | F8: 0.15 | G8: 0.1 | H8: =(E8*F8)+(E8*G8)/3 -> 3.1166667 | J8: Balance work as per site condition
A9: 5 | B9: 637700 | C9: 638000 | D9: LHS | E9: =(C9-B9) -> 300 | F9: 0.15 | G9: 0.1 | H9: =(E9*F9)+(E9*G9)/3 -> 55 | J9: Balance work as per site condition
A10: 6 | B10: 637200 | C10: 637720 | D10: RHS | E10: =(C10-B10) -> 520 | F10: 0.15 | G10: 0.1 | H10: =(E10*F10)+(E10*G10)/3 -> 95.333333 | J10: Balance work as per site condition
A11: 7 | B11: 647200 | C11: 647305 | D11: LHS | E11: =(C11-B11) -> 105 | F11: 0.15 | G11: 0.1 | H11: =(E11*F11)+(E11*G11)/3 -> 19.25 | J11: Balance work as per site condition
A12: 8 | B12: 676661 | C12: 676800 | D12: LHS | E12: =(C12-B12) -> 139 | F12: 0.15 | G12: 0.1 | H12: =(E12*F12)+(E12*G12)/3 -> 25.483333 | J12: Balance work as per site condition
A13: 9 | B13: 676945 | C13: 677000 | D13: LHS | E13: =(C13-B13) -> 55 | F13: 0.15 | G13: 0.1 | H13: =(E13*F13)+(E13*G13)/3 -> 10.083333 | J13: Balance work as per site condition
B14: Entry & Exit
A15: 9 | B15: 647120 | C15: 647200 | D15: LHS | E15: =(C15-B15) -> 80 | F15: 0.15 | G15: 0.1 | H15: =(E15*F15)+(E15*G15)/3 -> 14.666667 | J15: Balance work as per site condition
A16: Total Qty:- | E16: =SUM(E5:E15) -> 1247 | H16: =SUM(H5:H15) -> 228.61667
E18: =SUM(E5:E13)/2 -> 583.5

Sheet Stud
A1: Measurment Sheet
A2: Road Studs
A3: SL No | B3: Chainage | D3: Side | E3: Length | F3: Quantity (Nos) | H3: Description
B4: From | C4: To | F4: Sch-B | G4: Maintenance
A5: Section-2 (646+000 to 677+000)
A6: 1 | B6: 647350 | C6: 647355 | D6: LHS | E6: =(C6-B6) -> 5 | F6: =ROUND(E6/9,0)*2 -> 2 | G6: =F6 -> 2
A7: 2 | B7: 647420 | C7: 647428 | D7: LHS | E7: =(C7-B7) -> 8 | F7: =ROUND(E7/9,0)*2 -> 2 | G7: =F7 -> 2
A8: 3 | B8: 647650 | C8: 647668 | D8: LHS | E8: =(C8-B8) -> 18 | F8: =ROUND(E8/9,0)*2 -> 4 | G8: =F8 -> 4
A9: 4 | B9: 676805 | C9: 676822 | D9: LHS | E9: =(C9-B9) -> 17 | F9: =ROUND(E9/9,0)*2 -> 4 | G9: =F9 -> 4
A10: 5 | B10: 637700 | C10: 638000 | D10: LHS | E10: =(C10-B10) -> 300 | F10: =ROUND(E10/9,0)*2 -> 66 | G10: =F10 -> 66
A11: 6 | B11: 637200 | C11: 637720 | D11: RHS | E11: =(C11-B11) -> 520 | F11: =ROUND(E11/9,0)*2 -> 116 | G11: =F11 -> 116
A12: 7 | B12: 647200 | C12: 647305 | D12: LHS | E12: =(C12-B12) -> 105 | F12: =ROUND(E12/9,0)*2 -> 24 | G12: =F12 -> 24
A13: 8 | B13: 676661 | C13: 676800 | D13: LHS | E13: =(C13-B13) -> 139 | F13: =ROUND(E13/9,0)*2 -> 30 | G13: =F13 -> 30
A14: 9 | B14: 676945 | C14: 677000 | D14: LHS | E14: =(C14-B14) -> 55 | F14: =ROUND(E14/9,0)*2 -> 12 | G14: =F14 -> 12
B15: 647120 | C15: 647200 | D15: LHS | E15: =(C15-B15) -> 80 | F15: =ROUND(E15/9,0)*2 -> 18 | G15: =F15 -> 18
A17: Total (B) | E17: =SUM(E6:E15) -> 1247 | F17: =SUM(F6:F15) -> 278 | G17: =SUM(G6:G15) -> 278
A18: Total Balance Qty. (A+B) | E18: =E17 -> 1247 | F18: =F17 -> 278 | G18: =G17 -> 278

Sheet BOX culvert, painting 
A1: BOX culvert head wall painting
A2: S. No | B2: Item Description | C2: Chainage (km) | E2: Side | F2: Nos. | G2: Length (m) | H2: Hight (m) | I2: Painting Quantity (Sqm) | K2: Pretection Work Quantity | M2: Observation
C3: From | D3: To | I3: Sch-B | J3: Maintenance | K3: Sch-B | L3: Maintenance
A4: 3 | B4: BOX culvert | C4: 637+715 | E4: LHS | F4: 1 | G4: =2.5+3.38+2.5 -> 8.38 | H4: =(0.8+0.6)/2 -> 0.7 | I4: =G4*H4 -> 5.866 | K4: =F4 -> 1 | M4: IE/Balance work as per site condition (Protection and Painting Bal) | N4: As per Letter Culvert Bal.at Site
I5: =SUM(I4:I4) -> 5.866 | K5: =SUM(K4:K4) -> 1
A8: S No | B8: Item | C8: Unit | D8: Nos | E8: Length | F8: Width | G8: Thick | H8: Quantity | I8: Sub Total | J8: Rate | K8: Amount
A9: 1 | B9: Excavation for Wing Wall | C9: Cum | D9: 2 | E9: =(4.1+5.17)/2+1 -> 5.635 | F9: =0.25+0.5 -> 0.75 | G9: =0.1+2+1.6+0.25 -> 3.95 | H9: =PRODUCT(D9:G9) -> 33.387375 | I9: =SUM(H9:H11) -> 98.84975 | J9: 302.34925 | K9: =I9*J9 -> 29887.148
A10: 2 | B10: Excavation for Curtain Wall | C10: Cum | D10: 1 | E10: =3.65+3.65+2+0.25+0.25 -> 9.8 | F10: =1.85+0.5 -> 2.35 | G10: =2.5 -> 2.5 | H10: =PRODUCT(D10:G10) -> 57.575
A11: 3 | B11: Excavation for Rigid Appron | C11: Cum | D11: 1 | E11: =(9.8+2+0.25+0.25)/2 -> 6.15 | F11: 2.85 | G11: 0.45 | H11: =PRODUCT(D11:G11) -> 7.887375
A12: 2 | B12: PCC for Wing Wall M15 | C12: Cum | D12: 2 | E12: =(4.1+5.17)/2+1 -> 5.635 | F12: =0.25+0.3 -> 0.55 | G12: 0.15 | I12: =SUM(H12:H15) -> 24.385125 | J12: 4620.8093 | K12: =I12*J12 -> 112679.01
A13: 2 | B13: PCC for Curtain Wall M15 | C13: Cum | D13: 1 | E13: =E10 -> 9.8 | F13: =1.85+0.15+0.15 -> 2.15 | G13: 0.15 | H13: =PRODUCT(D13:G13) -> 3.1605
B14: PCC for Curtain Wall M15 (Sub Str) | C14: Cum | D14: 1 | E14: =E13 -> 9.8 | F14: Area= | G14: =1.65*0.55+0.75*0.75+0.45*0.75+0.2*0.45 -> 1.8975 | H14: =PRODUCT(D14:G14) -> 18.5955 | L14: =1.2-0.45 -> 0.75
B15: PCC for Rigid Appron M15 | C15: Cum | D15: 1 | E15: =(9.8+2+0.25+0.25)/2 -> 6.15 | F15: 2.85 | G15: 0.15 | H15: =PRODUCT(D15:G15) -> 2.629125
A16: 3 | B16: Sub-Str Qty M25 | C16: Cum | D16: 2 | E16: =E12 -> 5.635 | F16: 0.25 | G16: 2 | I16: =H16+H17+H18 -> 0 | J16: 6148.5287 | K16: =I16*J16 -> 0
C17: Cum | D17: 2 | E17: 1 | F17: 0.25 | G17: 0.3 | L17: =(4.1+5.17)/2 -> 4.635 | M17: =L17*L17 -> 21.483225
C18: Cum | D18: 2 | E18: =E16 -> 5.635 | F18: 0.25 | G18: =(0.3+1.6+0.25)/2 -> 1.075 | L18: =2.85 -> 2.85 | M18: =L18*L18 -> 8.1225
A19: 4 | B19: Steel HYSD | C19: MT | D19: 100 Kg per Cum | H19: =I16*0.1 -> 0 | I19: =H19 -> 0 | J19: 77549.73 | K19: =I19*J19 -> 0 | M19: =M17-M18 -> 13.360725
A20: 5 | B20: Boulder for Rigid appron | C20: Cum | D20: =D15 -> 1 | E20: =E15 -> 6.15 | F20: =F15 -> 2.85 | G20: 0.3 | H20: =PRODUCT(D20:G20) -> 5.25825 | I20: =H20 -> 5.25825 | J20: 1187.7191 | K20: =I20*J20 -> 6245.3241 | M20: =SQRT(M19) -> 3.6552326
A21: 5 | B21: Boulder for Flexible appron | C21: Cum | D21: 1 | E21: =3.65+3.65+2+0.25+0.25 -> 9.8 | F21: 6 | G21: 1 | H21: =PRODUCT(D21:G21) -> 58.8 | I21: =H21 -> 58.8 | J21: 1187.7191 | K21: =I21*J21 -> 69837.884
K22: =SUM(K9:K21) -> 218649.37

Sheet MBCB
A2: (v)W-Beam Crash Barrier
A3: SL No | B3: Chainage | D3: Side | E3: Length | F3: Description
B4: From | C4: To
A5: 1 | B5: 668.55 | C5: 669 | D5: LHS | E5: =C5-B5 -> 0.45 | F5: P&F Metal Beam Crash Barrier
A6: 2 | B6: 669.08 | C6: 669.3 | D6: LHS | E6: =C6-B6 -> 0.22 | F6: P&F Metal Beam Crash Barrier
A7: 3 | B7: 666.95 | C7: 667 | D7: RHS | E7: =C7-B7 -> 0.05 | F7: P&F Metal Beam Crash Barrier
A8: 4 | B8: 667.01 | C8: 667.85 | D8: RHS | E8: =C8-B8 -> 0.84 | F8: P&F Metal Beam Crash Barrier
A9: 5 | B9: 662.4 | C9: 662.7 | D9: RHS | E9: =C9-B9 -> 0.3 | F9: P&F Metal Beam Crash Barrier
A10: 6 | B10: 661.5 | C10: 661.55 | D10: RHS | E10: =C10-B10 -> 0.05 | F10: P&F Metal Beam Crash Barrier
A11: 7 | B11: 660.9 | C11: 661 | D11: LHS | E11: =C11-B11 -> 0.1 | F11: P&F Metal Beam Crash Barrier
A12: 8 | B12: 660.35 | C12: 660.45 | D12: LHS | E12: =C12-B12 -> 0.1 | F12: P&F Metal Beam Crash Barrier
A13: 9 | B13: 660.164 | C13: 660.2 | D13: LHS | E13: =C13-B13 -> 0.036 | F13: P&F Metal Beam Crash Barrier
A14: 10 | B14: 658.8 | C14: 658.9 | D14: LHS | E14: =C14-B14 -> 0.1 | F14: P&F Metal Beam Crash Barrier
A15: 11 | B15: 657.4 | C15: 657.5 | D15: LHS | E15: =C15-B15 -> 0.1 | F15: P&F Metal Beam Crash Barrier
A16: 12 | B16: 657.2 | C16: 657.6 | D16: RHS | E16: =C16-B16 -> 0.4 | F16: P&F Metal Beam Crash Barrier
... A144: 140 | B144: 606.8 | C144: 606.85 | D144: RHS | E144: =C144-B144 -> 0.05 | F144: P&F Metal Beam Crash Barrier
